BEGIN:VCALENDAR
VERSION:2.0
PRODID:-//eventon.com NONSGML v1.0//EN
CALSCALE:GREGORIAN
METHOD:PUBLISH
BEGIN:VEVENT
UID:69e9546ae4675
DTSTAMP:20260422T230618Z
DTSTART:20230525T083000Z
DTEND:20230525T215000Z
LOCATION:Musikene
SUMMARY:AUDICIÓN VIOLÍN
DESCRIPTION:Alumnado de los profesores Aitzol Iturriagagoitia y Eirini Gait
 ani\nhttps://musikene.eus/events/biolina-entzunaldia-19/?lang=fr
URL:https://musikene.eus/events/biolina-entzunaldia-19/?lang=fr
END:VEVENT
END:VCALENDAR