BEGIN:VCALENDAR
VERSION:2.0
PRODID:-//eventon.com NONSGML v1.0//EN
CALSCALE:GREGORIAN
METHOD:PUBLISH
BEGIN:VEVENT
UID:69ed6fc22328b
DTSTAMP:20260426T015202Z
DTSTART:20230426T080000Z
DTEND:20230426T215000Z
LOCATION:Musikene
SUMMARY:AUDICIÓN VIOLÍN
DESCRIPTION:Alumnado de los profesores Aitzol Iturriagagoitia y Eirini Gait
 ani\nhttps://musikene.eus/events/audicion-violin-68/?lang=fr
URL:https://musikene.eus/events/audicion-violin-68/?lang=fr
END:VEVENT
END:VCALENDAR