BEGIN:VCALENDAR
VERSION:2.0
PRODID:-//eventon.com NONSGML v1.0//EN
CALSCALE:GREGORIAN
METHOD:PUBLISH
BEGIN:VEVENT
UID:69eb11f8c9f9e
DTSTAMP:20260424T064720Z
DTSTART:20230313T123000Z
DTEND:20230313T225000Z
LOCATION:Musikene
SUMMARY:AUDICIÓN TXISTU
DESCRIPTION:Alumnado del profesor Aitor Amilibia\nhttps://musikene.eus/even
 ts/audicion-txistu-15/
URL:https://musikene.eus/events/audicion-txistu-15/
END:VEVENT
END:VCALENDAR