BEGIN:VCALENDAR
VERSION:2.0
PRODID:-//eventon.com NONSGML v1.0//EN
CALSCALE:GREGORIAN
METHOD:PUBLISH
BEGIN:VEVENT
UID:69ed22fb496aa
DTSTAMP:20260425T202427Z
DTSTART:20230307T180000Z
DTEND:20230307T225000Z
LOCATION:Musikene
SUMMARY:CANCELADO!!! AUDICIÓN REPERTORIO ORQUESTAL (TROMPA)
DESCRIPTION:Alumnado del profesor Óscar Sala\nhttps://musikene.eus/events/
 audicion-repertorio-orquestal-trompa-18/
URL:https://musikene.eus/events/audicion-repertorio-orquestal-trompa-18/
END:VEVENT
END:VCALENDAR