BEGIN:VCALENDAR
VERSION:2.0
PRODID:-//eventon.com NONSGML v1.0//EN
CALSCALE:GREGORIAN
METHOD:PUBLISH
BEGIN:VEVENT
UID:69e6dbd94e319
DTSTAMP:20260421T020721Z
DTSTART:20230602T100000Z
DTEND:20230602T215000Z
LOCATION:Musikene
SUMMARY:AUDICIÓN CANTO
DESCRIPTION:Alumnado de las profesoras Maite Arruabarrena e Itziar Barredo\
 nhttps://musikene.eus/events/audicion-canto-20/
URL:https://musikene.eus/events/audicion-canto-20/
END:VEVENT
END:VCALENDAR