BEGIN:VCALENDAR
VERSION:2.0
PRODID:-//eventon.com NONSGML v1.0//EN
CALSCALE:GREGORIAN
METHOD:PUBLISH
BEGIN:VEVENT
UID:69e4e8b19089a
DTSTAMP:20260419T143737Z
DTSTART:20230322T180000Z
DTEND:20230322T225000Z
LOCATION:Musikene
SUMMARY:AUDICIÓN FAGOT
DESCRIPTION:Alumnado de los profesores David Tomás e Itziar Barredo\nhttps
 ://musikene.eus/events/audicion-fagot-13/?lang=fr
URL:https://musikene.eus/events/audicion-fagot-13/?lang=fr
END:VEVENT
END:VCALENDAR