BEGIN:VCALENDAR
VERSION:2.0
PRODID:-//eventon.com NONSGML v1.0//EN
CALSCALE:GREGORIAN
METHOD:PUBLISH
BEGIN:VEVENT
UID:69e894fe452ff
DTSTAMP:20260422T092934Z
DTSTART:20221220T180000Z
DTEND:20221220T225000Z
LOCATION:Musikene
SUMMARY:CANCELADO! AUDICIÓN FAGOT
DESCRIPTION:Alumnado del profesor David Tomás\nhttps://musikene.eus/events
 /audicion-fagot-12/
URL:https://musikene.eus/events/audicion-fagot-12/
END:VEVENT
END:VCALENDAR