BEGIN:VCALENDAR
VERSION:2.0
PRODID:-//eventon.com NONSGML v1.0//EN
CALSCALE:GREGORIAN
METHOD:PUBLISH
BEGIN:VEVENT
UID:69ebc5ad3e4b5
DTSTAMP:20260424T193405Z
DTSTART:20230116T170000Z
DTEND:20230116T225000Z
LOCATION:Musikene
SUMMARY:GANBERA MUSIKA ENTZUNALDIA
DESCRIPTION:Vicente Boix irakaslearen ikaslegoa\nhttps://musikene.eus/event
 s/audicion-musica-de-camara-25/?lang=eu
URL:https://musikene.eus/events/audicion-musica-de-camara-25/?lang=eu
END:VEVENT
END:VCALENDAR