BEGIN:VCALENDAR
VERSION:2.0
PRODID:-//eventon.com NONSGML v1.0//EN
CALSCALE:GREGORIAN
METHOD:PUBLISH
BEGIN:VEVENT
UID:69eb765f8f05e
DTSTAMP:20260424T135543Z
DTSTART:20230116T170000Z
DTEND:20230116T225000Z
LOCATION:Musikene
SUMMARY:AUDICIÓN MÚSICA DE CÁMARA
DESCRIPTION:Alumnado de profesor Vicente Boix\nhttps://musikene.eus/events/
 audicion-musica-de-camara-25/
URL:https://musikene.eus/events/audicion-musica-de-camara-25/
END:VEVENT
END:VCALENDAR