BEGIN:VCALENDAR
VERSION:2.0
PRODID:-//eventon.com NONSGML v1.0//EN
CALSCALE:GREGORIAN
METHOD:PUBLISH
BEGIN:VEVENT
UID:69e73d76c2d8a
DTSTAMP:20260421T090350Z
DTSTART:20221003T170000Z
DTEND:20221003T215000Z
LOCATION:Musikene
SUMMARY:AUDICIÓN TROMPA
DESCRIPTION:Alumnado del profesor Óscar Sala\nhttps://musikene.eus/events/
 audicion-trompa-12/?lang=fr
URL:https://musikene.eus/events/audicion-trompa-12/?lang=fr
END:VEVENT
END:VCALENDAR