BEGIN:VCALENDAR
VERSION:2.0
PRODID:-//eventon.com NONSGML v1.0//EN
CALSCALE:GREGORIAN
METHOD:PUBLISH
BEGIN:VEVENT
UID:69e8d309dfefb
DTSTAMP:20260422T135417Z
DTSTART:20221125T180000Z
DTEND:20221125T225000Z
LOCATION:Musikene
SUMMARY:KONTZERTUA MUSIKENE BIG BAND
DESCRIPTION:Zuzendaria: DICK OATTS Programa osoa hemen\nhttps://musikene.eu
 s/events/concierto-musikene-big-band-6/?lang=eu
URL:https://musikene.eus/events/concierto-musikene-big-band-6/?lang=eu
END:VEVENT
END:VCALENDAR