BEGIN:VCALENDAR
VERSION:2.0
PRODID:-//eventon.com NONSGML v1.0//EN
CALSCALE:GREGORIAN
METHOD:PUBLISH
BEGIN:VEVENT
UID:69e8f0824c597
DTSTAMP:20260422T160002Z
DTSTART:20221125T180000Z
DTEND:20221125T225000Z
LOCATION:Musikene
SUMMARY:CONCIERTO MUSIKENE BIG BAND
DESCRIPTION:Director: DICK OATTS Programa completo aquí\nhttps://musikene.
 eus/events/concierto-musikene-big-band-6/
URL:https://musikene.eus/events/concierto-musikene-big-band-6/
END:VEVENT
END:VCALENDAR