BEGIN:VCALENDAR
VERSION:2.0
PRODID:-//eventon.com NONSGML v1.0//EN
CALSCALE:GREGORIAN
METHOD:PUBLISH
BEGIN:VEVENT
UID:69e73c12a840c
DTSTAMP:20260421T085754Z
DTSTART:20221217T180000Z
DTEND:20221217T225000Z
LOCATION:Musikene
SUMMARY:CONCIERTO MUSIKENE SINFONIETTA
DESCRIPTION:Director: LORENZO COPPOLA Javier Hombría\,  piano &nbsp; W.A. 
 Mozart: Concierto para piano y orquesta n.21 en Do Mayor\,  K. 467 W.A. Moz
 art: Serenata n.10 «Gran Partita» en Sib M para vientos y contrabajo\,  K
 . 361/370a\nhttps://musikene.eus/events/concierto-musikene-sinfonietta-8/
URL:https://musikene.eus/events/concierto-musikene-sinfonietta-8/
END:VEVENT
END:VCALENDAR