BEGIN:VCALENDAR
VERSION:2.0
PRODID:-//eventon.com NONSGML v1.0//EN
CALSCALE:GREGORIAN
METHOD:PUBLISH
BEGIN:VEVENT
UID:69ec101edb372
DTSTAMP:20260425T005142Z
DTSTART:20220825T183000Z
DTEND:20220825T215000Z
LOCATION:BILBAO. IGLESIA LA ENCARNACION
SUMMARY:CONCIERTO CADENZA QUARTET
DESCRIPTION:Diego Levices\,  saxofón soprano María Ortiz\,  saxofón alto
  Claudia Carballo\,  saxofón tenor Jorge Esteban\,  saxofón barítono\nht
 tps://musikene.eus/events/concierto-cadenza-quartet-4/
URL:https://musikene.eus/events/concierto-cadenza-quartet-4/
END:VEVENT
END:VCALENDAR