BEGIN:VCALENDAR
VERSION:2.0
PRODID:-//eventon.com NONSGML v1.0//EN
CALSCALE:GREGORIAN
METHOD:PUBLISH
BEGIN:VEVENT
UID:69eadd9783d73
DTSTAMP:20260424T030351Z
DTSTART:20220624T170000Z
DTEND:20220624T215000Z
LOCATION:DONOSTIA. KUTXA KULTUR KLUBA. Tabakalera 1ª planta
SUMMARY:JAZZ GUITARRA MASTER AMAIERAKO kontzertua
DESCRIPTION:Brian Aching Group     Brian Aching &#8211; Gitarra Eneko D
 ieguez &#8211; Saxo Altua Marco Salcines &#8211; Pianoa Jesús Pérez- Baxu
 a Daniel Pimenta – Bateria &nbsp; &nbsp; Kutxa Kultur-ekin lankidetzan\nh
 ttps://musikene.eus/events/concierto-fin-de-master-jazz-guitarra/?lang=eu
URL:https://musikene.eus/events/concierto-fin-de-master-jazz-guitarra/?lang=eu
END:VEVENT
END:VCALENDAR