BEGIN:VCALENDAR
VERSION:2.0
PRODID:-//eventon.com NONSGML v1.0//EN
CALSCALE:GREGORIAN
METHOD:PUBLISH
BEGIN:VEVENT
UID:69ebfcf88a4e0
DTSTAMP:20260424T233000Z
DTSTART:20220825T170000Z
DTEND:20220825T215000Z
LOCATION:DONOSTIA. Palacio Miramar
SUMMARY:CONCIERTO PIANO
DESCRIPTION:Javier Hombrías\,  piano\nhttps://musikene.eus/events/conciert
 o-piano-11/
URL:https://musikene.eus/events/concierto-piano-11/
END:VEVENT
END:VCALENDAR