BEGIN:VCALENDAR
VERSION:2.0
PRODID:-//eventon.com NONSGML v1.0//EN
CALSCALE:GREGORIAN
METHOD:PUBLISH
BEGIN:VEVENT
UID:69e73cb8d3edc
DTSTAMP:20260421T090040Z
DTSTART:20220602T170000Z
DTEND:20220602T215000Z
LOCATION:Musikene
SUMMARY:AKORDEOIA KARRERA AMAIERAKO KONTZERTUA
DESCRIPTION:AKORDEOIA KARRERA AMAIERAKO KONTZERTUA\nhttps://musikene.eus/ev
 ents/concierto-recital-fin-de-carrera-acordeon/?lang=eu
URL:https://musikene.eus/events/concierto-recital-fin-de-carrera-acordeon/?lang=eu
END:VEVENT
END:VCALENDAR