BEGIN:VCALENDAR
VERSION:2.0
PRODID:-//eventon.com NONSGML v1.0//EN
CALSCALE:GREGORIAN
METHOD:PUBLISH
BEGIN:VEVENT
UID:69ed7d9e20d2c
DTSTAMP:20260426T025110Z
DTSTART:20220602T170000Z
DTEND:20220602T215000Z
LOCATION:Musikene
SUMMARY:CONCIERTO RECITAL FIN DE CARRERA ACORDEÓN
DESCRIPTION:CONCIERTO RECITAL FIN DE CARRERA ACORDEÓN\nhttps://musikene.eu
 s/events/concierto-recital-fin-de-carrera-acordeon/
URL:https://musikene.eus/events/concierto-recital-fin-de-carrera-acordeon/
END:VEVENT
END:VCALENDAR