BEGIN:VCALENDAR
VERSION:2.0
PRODID:-//eventon.com NONSGML v1.0//EN
CALSCALE:GREGORIAN
METHOD:PUBLISH
BEGIN:VEVENT
UID:69e5824fd6f91
DTSTAMP:20260420T013303Z
DTSTART:20220602T130000Z
DTEND:20220602T215000Z
LOCATION:Musikene
SUMMARY:CONCIERTO RECITAL FIN DE CARRERA CANTO
DESCRIPTION:CONCIERTO RECITAL FIN DE CARRERA CANTO\nhttps://musikene.eus/ev
 ents/concierto-recital-fin-de-carrera-canto/
URL:https://musikene.eus/events/concierto-recital-fin-de-carrera-canto/
END:VEVENT
END:VCALENDAR