BEGIN:VCALENDAR
VERSION:2.0
PRODID:-//eventon.com NONSGML v1.0//EN
CALSCALE:GREGORIAN
METHOD:PUBLISH
BEGIN:VEVENT
UID:69ed6d0945521
DTSTAMP:20260426T014025Z
DTSTART:20220514T170000Z
DTEND:20220514T215000Z
LOCATION:VITORIA. Conservatorio Jesús Guridi
SUMMARY:KONTZERTUA MUSIKENE BIG BAND eta SAN JUAN BAUTISTA ABESBATZA
DESCRIPTION:PERICO SAMBEAT\,  zuzendaria BASILIO ASTÚLEZ\,  abesbatza zuze
 ndaria Lankidetza berezia: AMETS ALBISU\,  klake dantzaria &nbsp; Duke Elli
 ngton : Sacred Concert &nbsp; &nbsp;\nhttps://musikene.eus/events/concierto
 -musikene-big-band-y-coro-san-juan-bautista/?lang=eu
URL:https://musikene.eus/events/concierto-musikene-big-band-y-coro-san-juan-bautista/?lang=eu
END:VEVENT
END:VCALENDAR