BEGIN:VCALENDAR
VERSION:2.0
PRODID:-//eventon.com NONSGML v1.0//EN
CALSCALE:GREGORIAN
METHOD:PUBLISH
BEGIN:VEVENT
UID:69ed87511a2ef
DTSTAMP:20260426T033233Z
DTSTART:20220514T170000Z
DTEND:20220514T215000Z
LOCATION:VITORIA. Conservatorio Jesús Guridi
SUMMARY:CONCIERTO MUSIKENE BIG BAND y CORO SAN JUAN BAUTISTA
DESCRIPTION:PERICO SAMBEAT\,  director BASILIO ASTÚLEZ\,  director del cor
 o Colaboración especial: Amets ALBISU\,  bailarina de claqué &nbsp; Duke 
 Ellington : Sacred Concert\nhttps://musikene.eus/events/concierto-musikene-
 big-band-y-coro-san-juan-bautista/
URL:https://musikene.eus/events/concierto-musikene-big-band-y-coro-san-juan-bautista/
END:VEVENT
END:VCALENDAR