BEGIN:VCALENDAR
VERSION:2.0
PRODID:-//eventon.com NONSGML v1.0//EN
CALSCALE:GREGORIAN
METHOD:PUBLISH
BEGIN:VEVENT
UID:69e70d7941b11
DTSTAMP:20260421T053905Z
DTSTART:20220524T163000Z
DTEND:20220524T215000Z
LOCATION:Musikene
SUMMARY:GITARRA ENTZUNALDIA
DESCRIPTION:Marco Socias irakaslearen ikaslegoa\nhttps://musikene.eus/event
 s/audicion-guitarra-4/?lang=eu
URL:https://musikene.eus/events/audicion-guitarra-4/?lang=eu
END:VEVENT
END:VCALENDAR