BEGIN:VCALENDAR
VERSION:2.0
PRODID:-//eventon.com NONSGML v1.0//EN
CALSCALE:GREGORIAN
METHOD:PUBLISH
BEGIN:VEVENT
UID:69ec17da9b42e
DTSTAMP:20260425T012442Z
DTSTART:20220427T163000Z
DTEND:20220427T215000Z
LOCATION:Musikene
SUMMARY:GITARRA ENTZUNALDIA
DESCRIPTION:Marco Socias irakaslearen ikaslegoa\nhttps://musikene.eus/event
 s/gitarra-entzunaldia/?lang=eu
URL:https://musikene.eus/events/gitarra-entzunaldia/?lang=eu
END:VEVENT
END:VCALENDAR