BEGIN:VCALENDAR
VERSION:2.0
PRODID:-//eventon.com NONSGML v1.0//EN
CALSCALE:GREGORIAN
METHOD:PUBLISH
BEGIN:VEVENT
UID:69ed108b97500
DTSTAMP:20260425T190547Z
DTSTART:20220428T080000Z
DTEND:20220428T215000Z
LOCATION:Musikene
SUMMARY:MASTERCLASS ENSEMBLE INTERCONTEMPORAIN
DESCRIPTION:Programa osoa hemen Musikeneko ikasleei zuzendua &nbsp;\nhttps:
 //musikene.eus/events/masterclass-ensemble-intercontemporain-4/?lang=eu
URL:https://musikene.eus/events/masterclass-ensemble-intercontemporain-4/?lang=eu
END:VEVENT
END:VCALENDAR