BEGIN:VCALENDAR
VERSION:2.0
PRODID:-//eventon.com NONSGML v1.0//EN
CALSCALE:GREGORIAN
METHOD:PUBLISH
BEGIN:VEVENT
UID:69e9e276b943a
DTSTAMP:20260423T091222Z
DTSTART:20220408T173000Z
DTEND:20220408T215000Z
LOCATION:PASAIA. Salon de Actos de la Tenencia de Alcaldia de Trintxerpe
SUMMARY:CONCIERTO QUINTETO DALIAS
DESCRIPTION:Sara Vázquez\,  flauta travesera Miriam Castelao\,  oboe Ana B
 ueno\,  clarinete Glòria Pons\,  trompa Cristina Rampérez\,  fagot\nhttps
 ://musikene.eus/events/concierto-quinteto-dalias/?lang=fr
URL:https://musikene.eus/events/concierto-quinteto-dalias/?lang=fr
END:VEVENT
END:VCALENDAR