BEGIN:VCALENDAR
VERSION:2.0
PRODID:-//eventon.com NONSGML v1.0//EN
CALSCALE:GREGORIAN
METHOD:PUBLISH
BEGIN:VEVENT
UID:69ea8b236d7f5
DTSTAMP:20260423T211203Z
DTSTART:20220318T183000Z
DTEND:20220318T225000Z
LOCATION:Musikene
SUMMARY:Kontzertua. Konposizioko eta Zuzendaritzako 3. mailako ikaslegoa
DESCRIPTION:Zuzendaritzako ikaskideek zuzendutako eta Musikeneko ikasleek i
 nterpretatutako Konposizioko ikasleen obrak\nhttps://musikene.eus/events/co
 ncierto-alumnado-de-3o-de-composicion-y-direccion/?lang=eu
URL:https://musikene.eus/events/concierto-alumnado-de-3o-de-composicion-y-direccion/?lang=eu
END:VEVENT
END:VCALENDAR