BEGIN:VCALENDAR
VERSION:2.0
PRODID:-//eventon.com NONSGML v1.0//EN
CALSCALE:GREGORIAN
METHOD:PUBLISH
BEGIN:VEVENT
UID:69eaa53fee00b
DTSTAMP:20260423T230327Z
DTSTART:20220318T183000Z
DTEND:20220318T225000Z
LOCATION:Musikene
SUMMARY:Concierto. Alumnado de 3º de Composición y Dirección
DESCRIPTION:Obras del alumnado de Composición dirigidas por sus compañero
 s de Dirección e interpretadas por el alumnado de Musikene\nhttps://musike
 ne.eus/events/concierto-alumnado-de-3o-de-composicion-y-direccion/
URL:https://musikene.eus/events/concierto-alumnado-de-3o-de-composicion-y-direccion/
END:VEVENT
END:VCALENDAR