BEGIN:VCALENDAR
VERSION:2.0
PRODID:-//eventon.com NONSGML v1.0//EN
CALSCALE:GREGORIAN
METHOD:PUBLISH
BEGIN:VEVENT
UID:69ec3e8a99810
DTSTAMP:20260425T040946Z
DTSTART:20220407T173000Z
DTEND:20220407T215000Z
LOCATION:DONOSTIA. Koldo Mitxelena kulturunea
SUMMARY:FLAUTA KONTZERTUA
DESCRIPTION:POETIKA ZIKLOA &nbsp; SARA VÁZQUEZ\,  flauta ANGÉLICA MORALES
 \,  poeta &nbsp; Gipuzkoako Foru Aldundiak antolatua\nhttps://musikene.eus/
 events/flauta-kontzertua-2/?lang=eu
URL:https://musikene.eus/events/flauta-kontzertua-2/?lang=eu
END:VEVENT
END:VCALENDAR