BEGIN:VCALENDAR
VERSION:2.0
PRODID:-//eventon.com NONSGML v1.0//EN
CALSCALE:GREGORIAN
METHOD:PUBLISH
BEGIN:VEVENT
UID:69ea1d22ac04e
DTSTAMP:20260423T132242Z
DTSTART:20220302
DTEND:20220303
LOCATION:Musikene
SUMMARY:MASTERCLASS TUBA
DESCRIPTION:&nbsp; Miércoles\,  2 de marzo: 15:00-19:00 Jueves\,  3 de mar
 zo: 10:00-12:00/14:00-18:00 Viernes\,  4 de marzo: 10:00-14:00 &nbsp; &nbsp
 ; &nbsp; &nbsp;\nhttps://musikene.eus/events/masterclass-tuba-2/?lang=en
URL:https://musikene.eus/events/masterclass-tuba-2/?lang=en
END:VEVENT
END:VCALENDAR