BEGIN:VCALENDAR
VERSION:2.0
PRODID:-//eventon.com NONSGML v1.0//EN
CALSCALE:GREGORIAN
METHOD:PUBLISH
BEGIN:VEVENT
UID:69ece229de064
DTSTAMP:20260425T154753Z
DTSTART:20220211T180000Z
DTEND:20220211T225000Z
LOCATION:Musikene
SUMMARY:ENTSEGU NAGUSIA PUBLIKOARI IREKIA MUSIKENE ORKESTRA SINFONIKOA
DESCRIPTION:UNAI URRECHO\,  zuzendaria Ana Sagastizabal\,  sopranoa Lucía 
 Arzallus\,  pianoa &nbsp; PROGRAMA Preludio de Mirentxu &#8211; J. Guridi C
 oncierto vasco para piano &#8211; F. Escudero Siete lieder &#8211; P. Soroz
 ábal Tetraludium (estreno absoluto) &#8211; Aita Madina\nhttps://musikene.
 eus/events/entsegu-nagusia-publikoari-irekia-musikene-orkestra-sinfonikoa/?
 lang=eu
URL:https://musikene.eus/events/entsegu-nagusia-publikoari-irekia-musikene-orkestra-sinfonikoa/?lang=eu
END:VEVENT
END:VCALENDAR