BEGIN:VCALENDAR
VERSION:2.0
PRODID:-//eventon.com NONSGML v1.0//EN
CALSCALE:GREGORIAN
METHOD:PUBLISH
BEGIN:VEVENT
UID:69eaef3c22c3d
DTSTAMP:20260424T041908Z
DTSTART:20221110T200000Z
DTEND:20221110T225000Z
LOCATION:DONOSTIA. KUTXA KULTUR KLUBA. Tabakalera 1ª planta
SUMMARY:JAM SESSION
DESCRIPTION:4 musikariek hasiko dute Jam Session saioa\,  eta jarraian ikus
 leen artean diren musikariek parte hartzeko aukera izango dute\,  bat batek
 otasuna eta inprobisazioan goi mailako jazza eskainiz. &nbsp; Iker Figueroa
 \,  tronboia Joanes Ederra\,  kontrabaxua Carlos Villoslada\,  bateria Fran
 cesc Capella\,  pianoa &nbsp; Sarrera librea aforoa bete arte &nbsp; Kutxa 
 Kultur\,  Musikene eta[..]\nhttps://musikene.eus/events/jam-session/?lang=e
 u
URL:https://musikene.eus/events/jam-session/?lang=eu
END:VEVENT
END:VCALENDAR