BEGIN:VCALENDAR
VERSION:2.0
PRODID:-//eventon.com NONSGML v1.0//EN
CALSCALE:GREGORIAN
METHOD:PUBLISH
BEGIN:VEVENT
UID:69e73d0b91e35
DTSTAMP:20260421T090203Z
DTSTART:20220513T180000Z
DTEND:20220513T215000Z
LOCATION:TOLOSA. Leidor antzokia
SUMMARY:MUSIKENE BIG BAND & SAN JUAN BAUTISTA ABESBATZA kontzertua
DESCRIPTION:PERICO SAMBEAT\,  zuzendaria BASILIO ASTÚLEZ\,  abesbatza zuze
 ndaria &nbsp; Duke Ellington : Sacred Concert\nhttps://musikene.eus/events/
 musikene-big-band-san-juan-bautista-abesbatza-kontzertua/?lang=eu
URL:https://musikene.eus/events/musikene-big-band-san-juan-bautista-abesbatza-kontzertua/?lang=eu
END:VEVENT
END:VCALENDAR