BEGIN:VCALENDAR
VERSION:2.0
PRODID:-//eventon.com NONSGML v1.0//EN
CALSCALE:GREGORIAN
METHOD:PUBLISH
BEGIN:VEVENT
UID:69e5d8df6ed12
DTSTAMP:20260420T074223Z
DTSTART:20220312T083000Z
DTEND:20220312T225000Z
LOCATION:Musikene
SUMMARY:JORNADA DE PUERTAS ABIERTAS INTERPRETACIÓN: ARPA
DESCRIPTION:La Jornada se realizará de forma presencial. Para poder asisti
 r es necesario realizar una reserva previa a través del siguiente formular
 io de inscripción \nhttps://musikene.eus/events/jornada-de-puertas-abiert
 as-interpretacion-arpa/?lang=en
URL:https://musikene.eus/events/jornada-de-puertas-abiertas-interpretacion-arpa/?lang=en
END:VEVENT
END:VCALENDAR