BEGIN:VCALENDAR
VERSION:2.0
PRODID:-//eventon.com NONSGML v1.0//EN
CALSCALE:GREGORIAN
METHOD:PUBLISH
BEGIN:VEVENT
UID:69ec27d7e406c
DTSTAMP:20260425T023255Z
DTSTART:20220302T170000Z
DTEND:20220302T225000Z
LOCATION:Musikene
SUMMARY:AUDICIÓN VIOLÍN
DESCRIPTION:Alumnado de las profesoras Tatiana Samouil\,  Izaskun Etxebeste
  y Eirini Gaitani\nhttps://musikene.eus/events/biolina-entzunaldia-6/
URL:https://musikene.eus/events/biolina-entzunaldia-6/
END:VEVENT
END:VCALENDAR