BEGIN:VCALENDAR
VERSION:2.0
PRODID:-//eventon.com NONSGML v1.0//EN
CALSCALE:GREGORIAN
METHOD:PUBLISH
BEGIN:VEVENT
UID:69ec26d2b2ef1
DTSTAMP:20260425T022834Z
DTSTART:20220302T170000Z
DTEND:20220302T225000Z
LOCATION:Musikene
SUMMARY:BIOLINA ENTZUNALDIA
DESCRIPTION:Tatiana Samouil\,  Izaskun Etxebeste eta Eirini Gaitani irakasl
 een ikaslegoa\nhttps://musikene.eus/events/biolina-entzunaldia-6/?lang=eu
URL:https://musikene.eus/events/biolina-entzunaldia-6/?lang=eu
END:VEVENT
END:VCALENDAR