BEGIN:VCALENDAR
VERSION:2.0
PRODID:-//eventon.com NONSGML v1.0//EN
CALSCALE:GREGORIAN
METHOD:PUBLISH
BEGIN:VEVENT
UID:69e766b73861d
DTSTAMP:20260421T115951Z
DTSTART:20220114T180000Z
DTEND:20220114T225000Z
LOCATION:Musikene
SUMMARY:CONCIERTO CLAVE Y PIANO
DESCRIPTION:MIGUEL ITUARTE \,  piano y clave &nbsp; STYLE BRISÉ FRANÇOIS 
 COUPERIN: Octavo Orden (del segundo libro de Piezas para Clave) La Raphaél
 e &#8211; L´Ausoniéne (Allemande) &#8211; Première Courante &#8211; Seco
 nde Courante &#8211; L´Unique (Sarabande) &#8211; Gavotte &#8211; Rondeau 
 &#8211; Gigue &#8211; Passacaille &#8211; La Morinéte &nbsp; Johannes Brah
 ms: Intermezzo en[..]\nhttps://musikene.eus/events/concierto-piano-8/?lang=
 en
URL:https://musikene.eus/events/concierto-piano-8/?lang=en
END:VEVENT
END:VCALENDAR