BEGIN:VCALENDAR
VERSION:2.0
PRODID:-//eventon.com NONSGML v1.0//EN
CALSCALE:GREGORIAN
METHOD:PUBLISH
BEGIN:VEVENT
UID:69ed747f83b01
DTSTAMP:20260426T021215Z
DTSTART:20211201T180000Z
DTEND:20211201T225000Z
LOCATION:
SUMMARY:IKASLEEN KONTZERTUA
DESCRIPTION:Leonardo Moyano\,  zuzendaria\nhttps://musikene.eus/events/ikas
 leen-kontzertua/?lang=eu
URL:https://musikene.eus/events/ikasleen-kontzertua/?lang=eu
END:VEVENT
END:VCALENDAR