BEGIN:VCALENDAR
VERSION:2.0
PRODID:-//eventon.com NONSGML v1.0//EN
CALSCALE:GREGORIAN
METHOD:PUBLISH
BEGIN:VEVENT
UID:69e69508a4013
DTSTAMP:20260420T210512Z
DTSTART:20220208T090000Z
DTEND:20220208T225000Z
LOCATION:
SUMMARY:Masterclass pedagogia
DESCRIPTION:SOFÍA MARTÍNEZ\,  irakaslea Tailerra: &#8220;Intonazioa eta e
 rritmoa egungo musikan: Messiaenetik Kaija Saariahora&#8221; Musikeneko Ped
 agogiako ikasleei zuzendua\nhttps://musikene.eus/events/masterclass-pedagog
 ia-2/?lang=eu
URL:https://musikene.eus/events/masterclass-pedagogia-2/?lang=eu
END:VEVENT
END:VCALENDAR