BEGIN:VCALENDAR
VERSION:2.0
PRODID:-//eventon.com NONSGML v1.0//EN
CALSCALE:GREGORIAN
METHOD:PUBLISH
BEGIN:VEVENT
UID:69ebfe0828b85
DTSTAMP:20260424T233432Z
DTSTART:20220201T180000Z
DTEND:20220201T225000Z
LOCATION:Musikene
SUMMARY:EGUNERATUTA!! HARI LAUKOTEA ENTZUNALDIA
DESCRIPTION:Andoni Mercero irakaslearen ikasleagoa\nhttps://musikene.eus/ev
 ents/audicion-cuarteto-de-cuerda-8/?lang=eu
URL:https://musikene.eus/events/audicion-cuarteto-de-cuerda-8/?lang=eu
END:VEVENT
END:VCALENDAR