BEGIN:VCALENDAR
VERSION:2.0
PRODID:-//eventon.com NONSGML v1.0//EN
CALSCALE:GREGORIAN
METHOD:PUBLISH
BEGIN:VEVENT
UID:69ea9c8dea414
DTSTAMP:20260423T222621Z
DTSTART:20220127T180000Z
DTEND:20220127T225000Z
LOCATION:Musikene
SUMMARY:Audición CORREPETICIÓN\,  ACOMPAÑAMIENTO VOCAL Y REPERTORIO VOCAL ESTILÍSTICO
DESCRIPTION:Alumnado del profesor Maciej Pikulski\nhttps://musikene.eus/eve
 nts/audicion-correpeticion-acompanamiento-vocal-y-repertorio-vocal-estilist
 ico/
URL:https://musikene.eus/events/audicion-correpeticion-acompanamiento-vocal-y-repertorio-vocal-estilistico/
END:VEVENT
END:VCALENDAR