BEGIN:VCALENDAR
VERSION:2.0
PRODID:-//eventon.com NONSGML v1.0//EN
CALSCALE:GREGORIAN
METHOD:PUBLISH
BEGIN:VEVENT
UID:69e4e6e3c4221
DTSTAMP:20260419T142955Z
DTSTART:20211201T190000Z
DTEND:20211201T225000Z
LOCATION:BASAURI. Ibaigane Kultur Etxea
SUMMARY:CADENZA QUARTET kontzertua
DESCRIPTION:Diego Levices\,  saxofoia María Ortiz\,  saxofoia Claudia Carb
 allo\,  saxofoia Jorge Esteban\,  saxofoia &nbsp;\nhttps://musikene.eus/eve
 nts/cadenza-quartet-kontzertua/?lang=eu
URL:https://musikene.eus/events/cadenza-quartet-kontzertua/?lang=eu
END:VEVENT
END:VCALENDAR