BEGIN:VCALENDAR
VERSION:2.0
PRODID:-//eventon.com NONSGML v1.0//EN
CALSCALE:GREGORIAN
METHOD:PUBLISH
BEGIN:VEVENT
UID:69ea0958bbaa9
DTSTAMP:20260423T115816Z
DTSTART:20211210T173000Z
DTEND:20211210T225000Z
LOCATION:Musikene
SUMMARY:AUDICIÓN OBOE
DESCRIPTION:Alumnado de los profesores Laura Marcos y Pedro José Rodrígue
 z\nhttps://musikene.eus/events/audicion-oboe-11/
URL:https://musikene.eus/events/audicion-oboe-11/
END:VEVENT
END:VCALENDAR