BEGIN:VCALENDAR
VERSION:2.0
PRODID:-//eventon.com NONSGML v1.0//EN
CALSCALE:GREGORIAN
METHOD:PUBLISH
BEGIN:VEVENT
UID:69ea58121fef0
DTSTAMP:20260423T173410Z
DTSTART:20211215T150000Z
DTEND:20211215T180000Z
LOCATION:Musikene
SUMMARY:Música Tradicional Acordeón
DESCRIPTION:Juan Mari Beltrán\,  profesor invitado\nhttps://musikene.eus/e
 vents/musica-tradicional-acordeon/
URL:https://musikene.eus/events/musica-tradicional-acordeon/
END:VEVENT
END:VCALENDAR