BEGIN:VCALENDAR
VERSION:2.0
PRODID:-//eventon.com NONSGML v1.0//EN
CALSCALE:GREGORIAN
METHOD:PUBLISH
BEGIN:VEVENT
UID:69e6caa56c462
DTSTAMP:20260421T005357Z
DTSTART:20211220T140000Z
DTEND:20211220T225000Z
LOCATION:Musikene
SUMMARY:CANCELADO! AUDICIÓN TUBA
DESCRIPTION:Alumnado de los profesores José Francisco Martínez y Eva Pere
 da\nhttps://musikene.eus/events/tuba-entzunaldia-2/?lang=en
URL:https://musikene.eus/events/tuba-entzunaldia-2/?lang=en
END:VEVENT
END:VCALENDAR