BEGIN:VCALENDAR
VERSION:2.0
PRODID:-//eventon.com NONSGML v1.0//EN
CALSCALE:GREGORIAN
METHOD:PUBLISH
BEGIN:VEVENT
UID:69e9470ea4ebf
DTSTAMP:20260422T220918Z
DTSTART:20211104
DTEND:20211105
LOCATION:Musikene
SUMMARY:MASTERCLASS REPERTORIO VOCAL
DESCRIPTION:Jueves 4\,  10:00-13:00 /14:15-17:00 Viernes 5\,  10:00-13:00/1
 4:15-17:00 &nbsp;\nhttps://musikene.eus/events/masterclass-repertorio-vocal
 /?lang=fr
URL:https://musikene.eus/events/masterclass-repertorio-vocal/?lang=fr
END:VEVENT
END:VCALENDAR