BEGIN:VCALENDAR
VERSION:2.0
PRODID:-//eventon.com NONSGML v1.0//EN
CALSCALE:GREGORIAN
METHOD:PUBLISH
BEGIN:VEVENT
UID:69e9cfa6d888a
DTSTAMP:20260423T075206Z
DTSTART:20220526T170000Z
DTEND:20220526T215000Z
LOCATION:Musikene
SUMMARY:AUDICIÓN AGRUPACIONES ESPECÍFICAS DE JAZZ
DESCRIPTION:Alumnado del profesor Francesc Capella\nhttps://musikene.eus/ev
 ents/audicion-agrupaciones-especificas-de-jazz-4/?lang=fr
URL:https://musikene.eus/events/audicion-agrupaciones-especificas-de-jazz-4/?lang=fr
END:VEVENT
END:VCALENDAR