BEGIN:VCALENDAR
VERSION:2.0
PRODID:-//eventon.com NONSGML v1.0//EN
CALSCALE:GREGORIAN
METHOD:PUBLISH
BEGIN:VEVENT
UID:69ea16f4a9002
DTSTAMP:20260423T125620Z
DTSTART:20211026T083000Z
DTEND:20211026T110000Z
LOCATION:Musikene
SUMMARY:TRONPETAKO BOKILLAK TAILERRA
DESCRIPTION:Musikeneko klasikoko eta jazzeko tronpeta  ikaslegoarentzat\nh
 ttps://musikene.eus/events/taller-boquillas-de-trompeta/?lang=eu
URL:https://musikene.eus/events/taller-boquillas-de-trompeta/?lang=eu
END:VEVENT
END:VCALENDAR