BEGIN:VCALENDAR
VERSION:2.0
PRODID:-//eventon.com NONSGML v1.0//EN
CALSCALE:GREGORIAN
METHOD:PUBLISH
BEGIN:VEVENT
UID:69ea33ef83e49
DTSTAMP:20260423T145959Z
DTSTART:20211026T083000Z
DTEND:20211026T110000Z
LOCATION:Musikene
SUMMARY:TALLER BOQUILLAS DE TROMPETA
DESCRIPTION:Dirigida al alumnado de trompeta clásica y de jazz de Musikene
 \nhttps://musikene.eus/events/taller-boquillas-de-trompeta/
URL:https://musikene.eus/events/taller-boquillas-de-trompeta/
END:VEVENT
END:VCALENDAR