BEGIN:VCALENDAR
VERSION:2.0
PRODID:-//eventon.com NONSGML v1.0//EN
CALSCALE:GREGORIAN
METHOD:PUBLISH
BEGIN:VEVENT
UID:69e91a68aa12c
DTSTAMP:20260422T185848Z
DTSTART:20220519T173000Z
DTEND:20220519T215000Z
LOCATION:Musikene
SUMMARY:AUDICIÓN PIANO COMPLEMENTARIO
DESCRIPTION:Alumnado de la profesora Gotzone Higuera\nhttps://musikene.eus/
 events/audicion-piano-complementario-5/
URL:https://musikene.eus/events/audicion-piano-complementario-5/
END:VEVENT
END:VCALENDAR