BEGIN:VCALENDAR
VERSION:2.0
PRODID:-//eventon.com NONSGML v1.0//EN
CALSCALE:GREGORIAN
METHOD:PUBLISH
BEGIN:VEVENT
UID:69e9fa3364159
DTSTAMP:20260423T105339Z
DTSTART:20220519T120000Z
DTEND:20220519T215000Z
LOCATION:Musikene
SUMMARY:AUDICIÓN VIOLÍN
DESCRIPTION:Alumnado del profesor Aitzol Iturriagagoitia y Eirini Gaitani\n
 https://musikene.eus/events/audicion-violin-48/
URL:https://musikene.eus/events/audicion-violin-48/
END:VEVENT
END:VCALENDAR